BEGIN:VCALENDAR
VERSION:2.0
PRODID:-//Fermoy Community Youth Centre - ECPv4.4.3//NONSGML v1.0//EN
CALSCALE:GREGORIAN
METHOD:PUBLISH
X-WR-CALNAME:Fermoy Community Youth Centre
X-ORIGINAL-URL:http://www.fermoyyouthcentre.ie
X-WR-CALDESC:Events for Fermoy Community Youth Centre
BEGIN:VEVENT
DTSTART;TZID=Europe/Dublin:20180226T153000
DTEND;TZID=Europe/Dublin:20180226T173000
DTSTAMP:20171103T024217
CREATED:20140331T140233Z
LAST-MODIFIED:20140331T140233Z
UID:24818-1519659000-1519666200@www.fermoyyouthcentre.ie
SUMMARY:Montfort College of Performing Arts
DESCRIPTION:Munster's Most Prestigious Training Ground For Young Talent.\n\nWith 50 years' experience as Munster's leading Performing Arts College we have the experience and dedication to offer your child the very best in theatre arts training.\n\nWhen you and your child choose Montfort College you are joining something special - an affiliation and friendship that we hope will last many years\, providing a solid base on which your child will thrive.\n\nClasses are in held in the Palace Theatre\, Fermoy Community Youth Centre each Monday afternoon.\n\nMontforts Summer Camp will be held in the Palace Theatre from the 21st – 25th July.\n\nSIGN UP TODAY!
URL:http://www.fermoyyouthcentre.ie/event/montfort-college-performing-arts/2018-02-26
LOCATION:Fermoy Community Youth Centre\, Ashe Quay\,  Fermoy\, Co. Cork\, Ireland
CATEGORIES:Children,Dance,Drama,Education,Music,Schools,Theatre
ATTACH;FMTTYPE=image/jpeg:http://www.fermoyyouthcentre.ie/wp-content/uploads/2014/03/Montfort-logo-350-size.jpg
ORGANIZER;CN="Montfort%20College%20of%20Performing%20Arts":MAILTO:info@montfortcollege.com
END:VEVENT
END:VCALENDAR